BEGIN:VCALENDAR
VERSION:2.0
PRODID:-//Comité Social Economique STELLANTIS Charleville-Mézières - ECPv5.8.0//NONSGML v1.0//EN
CALSCALE:GREGORIAN
METHOD:PUBLISH
X-WR-CALNAME:Comité Social Economique STELLANTIS Charleville-Mézières
X-ORIGINAL-URL:http://cepcacharleville.fr
X-WR-CALDESC:évènements pour Comité Social Economique STELLANTIS Charleville-Mézières
BEGIN:VTIMEZONE
TZID:Europe/Paris
BEGIN:DAYLIGHT
TZOFFSETFROM:+0100
TZOFFSETTO:+0200
TZNAME:CEST
DTSTART:20160327T010000
END:DAYLIGHT
BEGIN:STANDARD
TZOFFSETFROM:+0200
TZOFFSETTO:+0100
TZNAME:CET
DTSTART:20161030T010000
END:STANDARD
END:VTIMEZONE
BEGIN:VEVENT
DTSTART;TZID=Europe/Paris:20161217T071500
DTEND;TZID=Europe/Paris:20161217T193000
DTSTAMP:20260426T024255
CREATED:20160927T185601Z
LAST-MODIFIED:20160930T125703Z
UID:1608-1481958900-1482003000@cepcacharleville.fr
SUMMARY:Marché de Noël à Trèves
DESCRIPTION:http://cepcacharleville.fr/marche-de-noel-a-treves/ \n 
URL:http://cepcacharleville.fr/evenement/marche-de-noel-a-treves/
CATEGORIES:Sortie Bus
END:VEVENT
END:VCALENDAR