BEGIN:VCALENDAR
VERSION:2.0
PRODID:-//Comité Social Economique STELLANTIS Charleville-Mézières - ECPv5.8.0//NONSGML v1.0//EN
CALSCALE:GREGORIAN
METHOD:PUBLISH
X-WR-CALNAME:Comité Social Economique STELLANTIS Charleville-Mézières
X-ORIGINAL-URL:http://cepcacharleville.fr
X-WR-CALDESC:évènements pour Comité Social Economique STELLANTIS Charleville-Mézières
BEGIN:VTIMEZONE
TZID:Europe/Paris
BEGIN:DAYLIGHT
TZOFFSETFROM:+0100
TZOFFSETTO:+0200
TZNAME:CEST
DTSTART:20160327T010000
END:DAYLIGHT
BEGIN:STANDARD
TZOFFSETFROM:+0200
TZOFFSETTO:+0100
TZNAME:CET
DTSTART:20161030T010000
END:STANDARD
END:VTIMEZONE
BEGIN:VEVENT
DTSTART;TZID=Europe/Paris:20161010T200000
DTEND;TZID=Europe/Paris:20161010T200000
DTSTAMP:20260426T043818
CREATED:20160912T194613Z
LAST-MODIFIED:20160912T194652Z
UID:1346-1476129600-1476129600@cepcacharleville.fr
SUMMARY:Les Insus (ex téléphone)
DESCRIPTION:Au galaxie d’Amnéville\nFosse : Tarif PSA 30€ EXT 38.90€\nPlaces assises numérotées Cat 1 : Tarif PSA 65€ EXT 71.90€\nLa billetterie sera en vente au comptoir du CE\, sur présentation de la carte de service le lundi 18 janvier. Limité à 2 billets / famille.\nInscriptions et règlement au comptoir CE sur présentation de la carte de service. Chèques débités après la sortie.
URL:http://cepcacharleville.fr/evenement/les-insus-ex-telephone/
CATEGORIES:Concert
END:VEVENT
END:VCALENDAR