BEGIN:VCALENDAR
VERSION:2.0
PRODID:-//Comité Social Economique STELLANTIS Charleville-Mézières - ECPv5.8.0//NONSGML v1.0//EN
CALSCALE:GREGORIAN
METHOD:PUBLISH
X-WR-CALNAME:Comité Social Economique STELLANTIS Charleville-Mézières
X-ORIGINAL-URL:http://cepcacharleville.fr
X-WR-CALDESC:évènements pour Comité Social Economique STELLANTIS Charleville-Mézières
BEGIN:VTIMEZONE
TZID:Europe/Paris
BEGIN:DAYLIGHT
TZOFFSETFROM:+0100
TZOFFSETTO:+0200
TZNAME:CEST
DTSTART:20160327T010000
END:DAYLIGHT
BEGIN:STANDARD
TZOFFSETFROM:+0200
TZOFFSETTO:+0100
TZNAME:CET
DTSTART:20161030T010000
END:STANDARD
END:VTIMEZONE
BEGIN:VEVENT
DTSTART;TZID=Europe/Paris:20161015T200000
DTEND;TZID=Europe/Paris:20161015T200000
DTSTAMP:20260426T043818
CREATED:20160912T194815Z
LAST-MODIFIED:20160912T194815Z
UID:1349-1476561600-1476561600@cepcacharleville.fr
SUMMARY:KEEN’V + GUEST
DESCRIPTION:KEEN’V + GUEST au capitole à Châlons en Champagne le samedi 15 octobre 2016 à 20h00 (sortie libre)\nPlacement assis numérotés cat 1 (gradin G 1er rang)\nTarif PSA 27€ EXT 37\nInscriptions et règlement au comptoir du CE\, sur présentation de la carte de service avant le 31 mars 2016. Chèques débités après le spectacle
URL:http://cepcacharleville.fr/evenement/keenv-guest/
CATEGORIES:Concert
END:VEVENT
END:VCALENDAR